BEGIN:VCALENDAR
VERSION:2.0
PRODID:-//hacksw/handcal//NONSGML v1.0//EN
BEGIN:VEVENT
DTSTART:20150529T190000
DTEND:20150529T230000
LOCATION:Grace Bar \n44, Great Windmill St \nW1D 7NB LONDRES
ORGANIZER;CN=DIANE TEUNISSEN:MAILTO:diane.teunissen@hotmail.fr
SUMMARY:Afterwork UTCeen a Londres
DESCRIPTION:Pour vous remettre de cette courte semaine, venez donc partager vos experiences d'UTCeens a Londres autour d'un verre et dans une bonne ambiance!\nA vendredi j'espere,\nDiane\nMon numero au cas ou:...
URL:https://alumni.utc.fr/fr/event/afterwork-utceen-a-londres/2015/05/29/777
BEGIN:VALARM
TRIGGER:-P0DT1H0M0S
ACTION:DISPLAY
END:VALARM
END:VEVENT
END:VCALENDAR