BEGIN:VCALENDAR
VERSION:2.0
PRODID:-//hacksw/handcal//NONSGML v1.0//EN
BEGIN:VEVENT
DTSTART:20260520T183000
DTEND:20260520T200000
LOCATION:https://utc-fr.zoom.us/j/86236525299?pwd=4zwh8yvQ15UqlQ0inhtjN9nDrV6Eb3.1
ORGANIZER;CN=Assia TBAHRITI:MAILTO:assia.tbahriti@alumni.utc.fr
SUMMARY:Soirée de l'Expatriation 2026
DESCRIPTION:Code d'accès du webinar 698219...
URL:https://alumni.utc.fr/fr/event/soiree-de-l-expatriation-2026/2026/05/20/3363
BEGIN:VALARM
TRIGGER:-P0DT1H0M0S
ACTION:DISPLAY
END:VALARM
END:VEVENT
END:VCALENDAR