BEGIN:VCALENDAR
VERSION:2.0
PRODID:-//hacksw/handcal//NONSGML v1.0//EN
BEGIN:VEVENT
DTSTART:20210121T183000
DTEND:20210121T200000
LOCATION:
ORGANIZER;CN=Boris CREMIEUX:MAILTO:boris.cremieux@gmail.com
SUMMARY:AI Guest Talk : Une histoire d'autonomie et d'intelligence
DESCRIPTION:-AI GUEST TALK-\nPréfaceLa pandémie du Covid nous a confrontés à un problème sans précédent forçant durant plusieurs semaines la population à rester chez elle. Pourtant, les promesses de la robotique ...
URL:https://alumni.utc.fr/fr/event/ai-guest-talk-une-histoire-d-autonomie-et-d-intelligence/2021/01/21/2254
BEGIN:VALARM
TRIGGER:-P0DT1H0M0S
ACTION:DISPLAY
END:VALARM
END:VEVENT
END:VCALENDAR