BEGIN:VCALENDAR
VERSION:2.0
PRODID:-//hacksw/handcal//NONSGML v1.0//EN
BEGIN:VEVENT
DTSTART:20201126T183000
DTEND:20201126T210000
LOCATION:
ORGANIZER;CN=Julia VILA LLORCA:MAILTO:julia.vilallorca@utc.fr
SUMMARY:Soirée de l'Innovation UTC Alumni
DESCRIPTION:- Fin des inscriptions le 26/11 à 18h -\nUTC Alumni lance sa 1ère soirée dédiée à "l'Innovation". Un évènement 100% en distanciel qui se déroulera le jeudi 26 novembre de 18h30 à 21h00.\nL'Innovation ...
URL:https://alumni.utc.fr/fr/event/soiree-de-l-innovation-utc-alumni/2020/11/26/2229
BEGIN:VALARM
TRIGGER:-P0DT1H0M0S
ACTION:DISPLAY
END:VALARM
END:VEVENT
END:VCALENDAR