BEGIN:VCALENDAR
VERSION:2.0
PRODID:-//hacksw/handcal//NONSGML v1.0//EN
BEGIN:VEVENT
DTSTART:20201103T183000
DTEND:20201103T200000
LOCATION:
ORGANIZER;CN=Julia VILA LLORCA:MAILTO:julia.vilallorca@utc.fr
SUMMARY:Session formation power BI : Pour les Managers 1/4
DESCRIPTION:-Première séance découverte ouverte à tous (cotisants et non cotisants) puis cotisation obligatoire* pour participer aux séances suivantes -\nEn collaboration avec FormationPowerBI.com, initiative...
URL:https://alumni.utc.fr/fr/event/session-formation-power-bi-pour-les-managers-1-4/2020/11/03/2215
BEGIN:VALARM
TRIGGER:-P0DT1H0M0S
ACTION:DISPLAY
END:VALARM
END:VEVENT
END:VCALENDAR