BEGIN:VCALENDAR
VERSION:2.0
PRODID:-//hacksw/handcal//NONSGML v1.0//EN
BEGIN:VEVENT
DTSTART:20200929T190000
DTEND:20200929T200000
LOCATION:
ORGANIZER;CN=Julia VILA LLORCA - Webinar:MAILTO:julia.vilallorca@utc.fr
SUMMARY:Accompagnement de l’innovation : Les secrets du responsable d’un incubateur de projets technologiques
DESCRIPTION:Un incubateur permet à un porteur de projet de préciser son idée, d’évaluer la pertinence commerciale de son projet et de catalyser ses ressources propres. C’est le dispositif essentiel d’une...
URL:https://alumni.utc.fr/fr/group/webinar/137/calendar/accompagnement-de-l-innovation-les-secrets-du-responsable-d-un-incubateur-de-projets-technologiques/2020/09/29/2194
BEGIN:VALARM
TRIGGER:-P0DT1H0M0S
ACTION:DISPLAY
END:VALARM
END:VEVENT
END:VCALENDAR