BEGIN:VCALENDAR
VERSION:2.0
PRODID:-//hacksw/handcal//NONSGML v1.0//EN
BEGIN:VEVENT
DTSTART:20200408T180000
DTEND:20200408T193000
LOCATION:D'où vous voulez
ORGANIZER;CN=Julia VILA LLORCA - Webinar:MAILTO:julia.vilallorca@utc.fr
SUMMARY:Webinar: Repenser le futur grâce au design thinking
DESCRIPTION:UTC alumni vous propose un nouveau webinar, sur le thème du design thinking.Découvrez les outils pour interroger votre stratégie d'offre et ensuite déployer des produits et des services numériques à...
URL:https://alumni.utc.fr/fr/group/webinar/137/calendar/webinar-repenser-le-futur-grace-au-design-thinking/2020/04/08/2122
BEGIN:VALARM
TRIGGER:-P0DT1H0M0S
ACTION:DISPLAY
END:VALARM
END:VEVENT
END:VCALENDAR