BEGIN:VCALENDAR
VERSION:2.0
PRODID:-//hacksw/handcal//NONSGML v1.0//EN
BEGIN:VEVENT
DTSTART:20191107T183000
DTEND:20191107T220000
LOCATION:Fury Room® Bordeaux \n456, Avenue de Verdun \n33700 MERIGNAC
ORGANIZER;CN=Julia VILA LLORCA - Aquitaine:MAILTO:julia.vilallorca@utc.fr
SUMMARY:Fury room & Afterwork Bordelais
DESCRIPTION:Un nouveau RDV insolite est prévu pour l'antenne Bordelaise :Besoin de vous défouler ? Du stress à évacuer ? Ce nouvel événement dans une "Fury Room"*, concept tout droit venu du Japon, va vous plaire...
URL:https://alumni.utc.fr/fr/group/aquitaine/35/calendar/fury-room-afterwork-bordelais/2019/11/07/1991
BEGIN:VALARM
TRIGGER:-P0DT1H0M0S
ACTION:DISPLAY
END:VALARM
END:VEVENT
END:VCALENDAR