BEGIN:VCALENDAR
VERSION:2.0
PRODID:-//hacksw/handcal//NONSGML v1.0//EN
BEGIN:VEVENT
DTSTART:20151208T183000
DTEND:20151208T230000
LOCATION:LA COUPOLE \n102, Boulevard du Montparnasse \n75014 PARIS
ORGANIZER;CN=Céline KELDENICH:MAILTO:celine.keldenich@alumni.utc.fr
SUMMARY:Assemblée Générale, Afterwork, Dîner
DESCRIPTION:L'Assemblée Générale Ordinaire de Tremplin UTC se déroulera le Mardi 8 décembre 2015 dès 18h30 à :\n \nLa Coupole\n102 boulevard du Montparnasse\n75014 PARIS\n \n \nLa soirée sera couplée avec...
URL:https://alumni.utc.fr/en/event/assemblee-generale-afterwork-diner/2015/12/08/899
BEGIN:VALARM
TRIGGER:-P0DT1H0M0S
ACTION:DISPLAY
END:VALARM
END:VEVENT
END:VCALENDAR