BEGIN:VCALENDAR
VERSION:2.0
PRODID:-//hacksw/handcal//NONSGML v1.0//EN
BEGIN:VEVENT
DTSTART:20150204T200000
DTEND:20150204T220000
LOCATION:IMI \n62, Boulevard de Sébastopol \n75002 PARIS
ORGANIZER;CN=Aline CEURSTEMONT:MAILTO:
SUMMARY:Atelier Théâtre "Aisance en Public et Prise de parole"
DESCRIPTION:\nSous l'impulsion de Jérome Caron (GB 2013) en collaboration avec Angèle Lemort (GB 2001), le Groupement Théâtre vous invite à un cycle Théâtre :\nLe premier atelier de ce cycle, intitulé "Aisance en...
URL:https://alumni.utc.fr/en/event/atelier-theatre-aisance-en-public-et-prise-de-parole/2015/02/04/631
BEGIN:VALARM
TRIGGER:-P0DT1H0M0S
ACTION:DISPLAY
END:VALARM
END:VEVENT
END:VCALENDAR