BEGIN:VCALENDAR
VERSION:2.0
PRODID:-//hacksw/handcal//NONSGML v1.0//EN
BEGIN:VEVENT
DTSTART:20141014T193000
DTEND:20141014T223000
LOCATION:White Rabbit \n23, Quai de la Joliette \n13002 MARSEILLE
ORGANIZER;CN=Adrien PONCHELET:MAILTO:
SUMMARY:AfterWork Accueil Stagiaires Multivilles Marseille
DESCRIPTION:\nDans le cadre de l'évènement national Accueil Stagiaires Multivilles, étudiants et diplômés de la région de Marseille se donnent rendez-vous :\n \nLe Mardi 14 Octobre à partir de 19h30 à...
URL:https://alumni.utc.fr/en/event/afterwork-accueil-stagiaires-multivilles-marseille/2014/10/14/553
BEGIN:VALARM
TRIGGER:-P0DT1H0M0S
ACTION:DISPLAY
END:VALARM
END:VEVENT
END:VCALENDAR