BEGIN:VCALENDAR
VERSION:2.0
PRODID:-//hacksw/handcal//NONSGML v1.0//EN
BEGIN:VEVENT
DTSTART:20230511T190000
DTEND:20230511T220000
LOCATION:Crowne Plaza Paris-République \n10, Place de la République \n75011 PARIS
ORGANIZER;CN=Assia TBAHRITI:MAILTO:assia.tbahriti@alumni.utc.fr
SUMMARY:Soirée Réseau & Carrière - Paris
DESCRIPTION:Retrouvons-nous dans un cadre prestigieux autour d'un cocktail dînatoire le :Jeudi 11 Mai dès 19h00Au Crowne Plaza Paris-République10 Place de la République 75011 Paris\nUn cocktail dînatoire en fin...
URL:https://alumni.utc.fr/en/event/soiree-reseau-carriere-paris/2023/05/11/2654
BEGIN:VALARM
TRIGGER:-P0DT1H0M0S
ACTION:DISPLAY
END:VALARM
END:VEVENT
END:VCALENDAR