BEGIN:VCALENDAR
VERSION:2.0
PRODID:-//hacksw/handcal//NONSGML v1.0//EN
BEGIN:VEVENT
DTSTART:20201117T183000
DTEND:20201117T200000
LOCATION:
ORGANIZER;CN=Julia VILA LLORCA:MAILTO:julia.vilallorca@utc.fr
SUMMARY:Session formation power BI 3/4 : Pour la gestion de projets
DESCRIPTION:-Séance réservée aux membres cotisants*- \nEn collaboration avec FormationPowerBI.com, initiative d'un diplômé GI consultant/formateur spécialiste en Business Intelligence, UTC Alumni vous propose de ...
URL:https://alumni.utc.fr/en/event/session-formation-power-bi-3-4-pour-la-gestion-de-projets/2020/11/17/2219
BEGIN:VALARM
TRIGGER:-P0DT1H0M0S
ACTION:DISPLAY
END:VALARM
END:VEVENT
END:VCALENDAR