BEGIN:VCALENDAR
VERSION:2.0
PRODID:-//hacksw/handcal//NONSGML v1.0//EN
BEGIN:VEVENT
DTSTART:20201110T183000
DTEND:20201110T200000
LOCATION:
ORGANIZER;CN=Julia VILA LLORCA:MAILTO:julia.vilallorca@utc.fr
SUMMARY:Session formation power BI 2/4 : Pour le Business Dev
DESCRIPTION:-Séance réservée aux membres cotisants*- \nEn collaboration avec FormationPowerBI.com, initiative d'un diplômé GI consultant/formateur spécialiste en Business Intelligence, UTC Alumni vous propose de ...
URL:https://alumni.utc.fr/en/event/session-formation-power-bi-2-4-pour-le-business-dev/2020/11/10/2216
BEGIN:VALARM
TRIGGER:-P0DT1H0M0S
ACTION:DISPLAY
END:VALARM
END:VEVENT
END:VCALENDAR